BEGIN:VCALENDAR
VERSION:2.0
PRODID:-//Diego Hdz Music - ECPv6.15.20//NONSGML v1.0//EN
CALSCALE:GREGORIAN
METHOD:PUBLISH
X-WR-CALNAME:Diego Hdz Music
X-ORIGINAL-URL:https://diegohdzmusic.com
X-WR-CALDESC:Events for Diego Hdz Music
REFRESH-INTERVAL;VALUE=DURATION:PT1H
X-Robots-Tag:noindex
X-PUBLISHED-TTL:PT1H
BEGIN:VTIMEZONE
TZID:Europe/Amsterdam
BEGIN:DAYLIGHT
TZOFFSETFROM:+0100
TZOFFSETTO:+0200
TZNAME:CEST
DTSTART:20230326T010000
END:DAYLIGHT
BEGIN:STANDARD
TZOFFSETFROM:+0200
TZOFFSETTO:+0100
TZNAME:CET
DTSTART:20231029T010000
END:STANDARD
BEGIN:DAYLIGHT
TZOFFSETFROM:+0100
TZOFFSETTO:+0200
TZNAME:CEST
DTSTART:20240331T010000
END:DAYLIGHT
BEGIN:STANDARD
TZOFFSETFROM:+0200
TZOFFSETTO:+0100
TZNAME:CET
DTSTART:20241027T010000
END:STANDARD
BEGIN:DAYLIGHT
TZOFFSETFROM:+0100
TZOFFSETTO:+0200
TZNAME:CEST
DTSTART:20250330T010000
END:DAYLIGHT
BEGIN:STANDARD
TZOFFSETFROM:+0200
TZOFFSETTO:+0100
TZNAME:CET
DTSTART:20251026T010000
END:STANDARD
END:VTIMEZONE
BEGIN:VTIMEZONE
TZID:America/Costa_Rica
BEGIN:STANDARD
TZOFFSETFROM:-0600
TZOFFSETTO:-0600
TZNAME:CST
DTSTART:20230101T000000
END:STANDARD
END:VTIMEZONE
BEGIN:VEVENT
DTSTART;TZID=Europe/Amsterdam:20241204T210000
DTEND;TZID=Europe/Amsterdam:20241204T230000
DTSTAMP:20260422T104142
CREATED:20241009T122633Z
LAST-MODIFIED:20241127T183426Z
UID:1436-1733346000-1733353200@diegohdzmusic.com
SUMMARY:Sia y su Ritmo Caliente - Yellow House
DESCRIPTION:Get ready to dance! Sia y Su Ritmo Caliente bring sizzling salsa rhythms in their premiere show-an unforgettable night of music\, energy\, and nonstop dancing.
URL:https://diegohdzmusic.com/event/sia-y-su-ritmo-caliente-yellow-house/
LOCATION:WMDC / JL Hartong hall\, Willem Buytewechstraat 70A\, Rotterdam\, 3024 BP\, Netherlands
ATTACH;FMTTYPE=image/jpeg:https://diegohdzmusic.com/wp-content/uploads/2024/10/IMG-20241109-WA0001.jpg
END:VEVENT
BEGIN:VEVENT
DTSTART;TZID=Europe/Amsterdam:20241205T213000
DTEND;TZID=Europe/Amsterdam:20241205T223000
DTSTAMP:20260422T104142
CREATED:20241101T101730Z
LAST-MODIFIED:20241202T232041Z
UID:1630-1733434200-1733437800@diegohdzmusic.com
SUMMARY:LA Roffa Project - Jazz Café Dizzy
DESCRIPTION:Jamm session opening by LA Roffa Project \nLA Roffa Proyect has evolved into a unique blend of Latin American music\, jazz\, and Spanish folkloric influences. \nThe compositions merge his jazz background with catchy melodies and groovy rhythms\, creating music that is both engaging for jazz enthusiasts and accessible and danceable for all audiences. \nAntonio Peñalver: trumpet / Band lider \nDiego Hernández: drums \nCarmen Martínez: percussion \nDani Brands: piano \nMauro Méndez: bass \nCelia Serrano: vocals
URL:https://diegohdzmusic.com/event/la-roffa-project-jazz-cafe-dizzy/
LOCATION:Jazz Café Dizzy\, 's-Gravendijkwal 127\, Rotterdam\, 3021 EK\, Netherlands
ATTACH;FMTTYPE=image/jpeg:https://diegohdzmusic.com/wp-content/uploads/2024/11/IMG-20241202-WA0018.jpg
END:VEVENT
BEGIN:VEVENT
DTSTART;TZID=America/Costa_Rica:20241214T200000
DTEND;TZID=America/Costa_Rica:20241214T220000
DTSTAMP:20260422T104142
CREATED:20241104T233525Z
LAST-MODIFIED:20250330T100231Z
UID:1641-1734206400-1734213600@diegohdzmusic.com
SUMMARY:Freddy Álvez - Costa Rica (Private Event)
DESCRIPTION:
URL:https://diegohdzmusic.com/event/freddy-alvez-costa-rica-privat/
LOCATION:Costa Rica\, Costa Rica
END:VEVENT
BEGIN:VEVENT
DTSTART;TZID=America/Costa_Rica:20241221T213000
DTEND;TZID=America/Costa_Rica:20241221T233000
DTSTAMP:20260422T104142
CREATED:20241104T233731Z
LAST-MODIFIED:20241221T190523Z
UID:1643-1734816600-1734823800@diegohdzmusic.com
SUMMARY:Freddy Álvez - La Auténtica\, Costa Rica
DESCRIPTION:¡Esta semana se arma en La Auténtica! \nMúsica en vivo con Freddy Álvez\, tragos perfectos y el mejor ambiente para desconectar y disfrutar. \nNo lo pienses mucho\, aquí te espera la vibra que necesitas.
URL:https://diegohdzmusic.com/event/freddy-alvez-la-autentica-costa-rica/
LOCATION:La Auténtica CR\, XR53+WCJ\, San José Province\, Santa Ana\, Lindora\, San José\, Costa Rica
ATTACH;FMTTYPE=image/jpeg:https://diegohdzmusic.com/wp-content/uploads/2024/11/IMG-20241221-WA0010.jpg
END:VEVENT
BEGIN:VEVENT
DTSTART;TZID=America/Costa_Rica:20241229T200000
DTEND;TZID=America/Costa_Rica:20241229T220000
DTSTAMP:20260422T104142
CREATED:20241101T093604Z
LAST-MODIFIED:20241101T093604Z
UID:1625-1735502400-1735509600@diegohdzmusic.com
SUMMARY:Carlos Guillén Latin Jazz Sextet - Mundo Loco CR
DESCRIPTION:El baterista costarricense Carlos Guillén\, quién se mudó a Puerto Rico a continuar sus estudios en percusión regresa a Costa Rica a tocar con su Sexteto de Latin Jazz. \nCarlos Guillén – Drums \nAlessandra Gonzáles – Piano \nJavier Cartín – Guitarra \nJeremy Sánchez – Saxofón \nManrique Montero – Bajo \nDiego Hdz – Percusión \nPreventa: ₡8000 Día del Evento: ₡10 000 Reserva por SINPE Movil al +506 88790949\, enviar comprobante de pago.
URL:https://diegohdzmusic.com/event/carlos-guillen-latin-jazz-sextet-mundo-loco/
LOCATION:Mundo Loco\, Mundoloco el Chante\, San Pedro\, San José\, Costa Rica
ATTACH;FMTTYPE=image/jpeg:https://diegohdzmusic.com/wp-content/uploads/2024/11/IMG-20241030-WA0006.jpg
END:VEVENT
END:VCALENDAR