BEGIN:VCALENDAR
VERSION:2.0
PRODID:-//Diego Hdz Music - ECPv6.15.20//NONSGML v1.0//EN
CALSCALE:GREGORIAN
METHOD:PUBLISH
X-ORIGINAL-URL:https://diegohdzmusic.com
X-WR-CALDESC:Events for Diego Hdz Music
REFRESH-INTERVAL;VALUE=DURATION:PT1H
X-Robots-Tag:noindex
X-PUBLISHED-TTL:PT1H
BEGIN:VTIMEZONE
TZID:Europe/Amsterdam
BEGIN:DAYLIGHT
TZOFFSETFROM:+0100
TZOFFSETTO:+0200
TZNAME:CEST
DTSTART:20230326T010000
END:DAYLIGHT
BEGIN:STANDARD
TZOFFSETFROM:+0200
TZOFFSETTO:+0100
TZNAME:CET
DTSTART:20231029T010000
END:STANDARD
BEGIN:DAYLIGHT
TZOFFSETFROM:+0100
TZOFFSETTO:+0200
TZNAME:CEST
DTSTART:20240331T010000
END:DAYLIGHT
BEGIN:STANDARD
TZOFFSETFROM:+0200
TZOFFSETTO:+0100
TZNAME:CET
DTSTART:20241027T010000
END:STANDARD
BEGIN:DAYLIGHT
TZOFFSETFROM:+0100
TZOFFSETTO:+0200
TZNAME:CEST
DTSTART:20250330T010000
END:DAYLIGHT
BEGIN:STANDARD
TZOFFSETFROM:+0200
TZOFFSETTO:+0100
TZNAME:CET
DTSTART:20251026T010000
END:STANDARD
END:VTIMEZONE
BEGIN:VEVENT
DTSTART;TZID=Europe/Amsterdam:20241102T210000
DTEND;TZID=Europe/Amsterdam:20241102T230000
DTSTAMP:20260420T162216
CREATED:20241009T132348Z
LAST-MODIFIED:20241009T132348Z
UID:1451-1730581200-1730588400@diegohdzmusic.com
SUMMARY:ChaChaChalina - Muziek Podium DJS
DESCRIPTION:Genres: Jazz/World
URL:https://diegohdzmusic.com/event/chachachalina-muziek-podium-djs/
LOCATION:Muziek Podium DJS\, Grotekerksplein 1\, Dordrecht\, 3311 CC\, Netherlands
END:VEVENT
BEGIN:VEVENT
DTSTART;TZID=Europe/Amsterdam:20241107T203000
DTEND;TZID=Europe/Amsterdam:20241107T220000
DTSTAMP:20260420T162216
CREATED:20241009T131057Z
LAST-MODIFIED:20241104T232821Z
UID:1448-1731011400-1731016800@diegohdzmusic.com
SUMMARY:LA Roffa Project - Yellow House
DESCRIPTION:LA Roffa Project presents their new musical compositions with special guests at Yellow House Rotterdam. \n\nJazz – Latin – Spain folclore
URL:https://diegohdzmusic.com/event/la-roffa-project-yellow-house/
LOCATION:WMDC / JL Hartong hall\, Willem Buytewechstraat 70A\, Rotterdam\, 3024 BP\, Netherlands
ATTACH;FMTTYPE=image/jpeg:https://diegohdzmusic.com/wp-content/uploads/2024/10/IMG-20241104-WA0014.jpg
END:VEVENT
BEGIN:VEVENT
DTSTART;TZID=Europe/Amsterdam:20241109T200000
DTEND;TZID=Europe/Amsterdam:20241109T220000
DTSTAMP:20260420T162216
CREATED:20241101T085902Z
LAST-MODIFIED:20250330T100302Z
UID:1623-1731182400-1731189600@diegohdzmusic.com
SUMMARY:ChaChaChalina - (Private Event)
DESCRIPTION:Jazz/World
URL:https://diegohdzmusic.com/event/chachachalina-privat/
END:VEVENT
BEGIN:VEVENT
DTSTART;TZID=Europe/Amsterdam:20241115T200000
DTEND;TZID=Europe/Amsterdam:20241115T220000
DTSTAMP:20260420T162216
CREATED:20241009T124545Z
LAST-MODIFIED:20241104T233211Z
UID:1440-1731700800-1731708000@diegohdzmusic.com
SUMMARY:LA ROFFA PROJECT - MÚSICAS SIN FRONTERAS ROJALES '24
DESCRIPTION:Jazz – Latin – Spain Folklore
URL:https://diegohdzmusic.com/event/la-roffa-project-musicas-sin-fronteras-rojales-2024/
LOCATION:TEATRO CAPITOL DE ROJALES\, Calle Alberto González Vergel\, ROJALES\, 03170\, Spain
ATTACH;FMTTYPE=image/png:https://diegohdzmusic.com/wp-content/uploads/2024/10/med_LA-ROFFA-PROJECT-MUSICAS-SIN-FRONTERAS-ROJALES-2024.png
END:VEVENT
BEGIN:VEVENT
DTSTART;TZID=Europe/Amsterdam:20241130T213000
DTEND;TZID=Europe/Amsterdam:20241130T223000
DTSTAMP:20260420T162216
CREATED:20241104T234058Z
LAST-MODIFIED:20241127T182642Z
UID:1646-1733002200-1733005800@diegohdzmusic.com
SUMMARY:Funky Latin Groove - Jazz Café Dizzy
DESCRIPTION:A night filled with the greatest hits of Latin music: Cumbia\, Salsa\, Merengue\, Reggaeton\, Funk\, and Pop. \nGet ready for an unforgettable party where you’ll sing and dance the whole night. If you’re a fan of Latin music\, this is the perfect plan for your Saturday night. \nInvite your friends and let’s enjoy this amazing comcer together! \n🎤 Gatto Gabriel – Vocal \n🎷Martijn van Ditshuizen – Sax \n🎸Mauro Mendez – Bass \n🪘Denzil Tromp – Congas \n🥁Diego Hernandez – Percussion \n🎹Francisco Rodríguez – Piano
URL:https://diegohdzmusic.com/event/latin-pop-jazz-cafe-dizzy/
LOCATION:Jazz Café Dizzy\, 's-Gravendijkwal 127\, Rotterdam\, 3021 EK\, Netherlands
ATTACH;FMTTYPE=image/jpeg:https://diegohdzmusic.com/wp-content/uploads/2024/11/IMG-20241127-WA00001.jpg
END:VEVENT
END:VCALENDAR