BEGIN:VCALENDAR
VERSION:2.0
PRODID:-//Diego Hdz Music - ECPv6.15.20//NONSGML v1.0//EN
CALSCALE:GREGORIAN
METHOD:PUBLISH
X-ORIGINAL-URL:https://diegohdzmusic.com
X-WR-CALDESC:Events for Diego Hdz Music
REFRESH-INTERVAL;VALUE=DURATION:PT1H
X-Robots-Tag:noindex
X-PUBLISHED-TTL:PT1H
BEGIN:VTIMEZONE
TZID:Europe/Amsterdam
BEGIN:DAYLIGHT
TZOFFSETFROM:+0100
TZOFFSETTO:+0200
TZNAME:CEST
DTSTART:20230326T010000
END:DAYLIGHT
BEGIN:STANDARD
TZOFFSETFROM:+0200
TZOFFSETTO:+0100
TZNAME:CET
DTSTART:20231029T010000
END:STANDARD
BEGIN:DAYLIGHT
TZOFFSETFROM:+0100
TZOFFSETTO:+0200
TZNAME:CEST
DTSTART:20240331T010000
END:DAYLIGHT
BEGIN:STANDARD
TZOFFSETFROM:+0200
TZOFFSETTO:+0100
TZNAME:CET
DTSTART:20241027T010000
END:STANDARD
BEGIN:DAYLIGHT
TZOFFSETFROM:+0100
TZOFFSETTO:+0200
TZNAME:CEST
DTSTART:20250330T010000
END:DAYLIGHT
BEGIN:STANDARD
TZOFFSETFROM:+0200
TZOFFSETTO:+0100
TZNAME:CET
DTSTART:20251026T010000
END:STANDARD
END:VTIMEZONE
BEGIN:VTIMEZONE
TZID:Europe/Paris
BEGIN:DAYLIGHT
TZOFFSETFROM:+0100
TZOFFSETTO:+0200
TZNAME:CEST
DTSTART:20230326T010000
END:DAYLIGHT
BEGIN:STANDARD
TZOFFSETFROM:+0200
TZOFFSETTO:+0100
TZNAME:CET
DTSTART:20231029T010000
END:STANDARD
BEGIN:DAYLIGHT
TZOFFSETFROM:+0100
TZOFFSETTO:+0200
TZNAME:CEST
DTSTART:20240331T010000
END:DAYLIGHT
BEGIN:STANDARD
TZOFFSETFROM:+0200
TZOFFSETTO:+0100
TZNAME:CET
DTSTART:20241027T010000
END:STANDARD
BEGIN:DAYLIGHT
TZOFFSETFROM:+0100
TZOFFSETTO:+0200
TZNAME:CEST
DTSTART:20250330T010000
END:DAYLIGHT
BEGIN:STANDARD
TZOFFSETFROM:+0200
TZOFFSETTO:+0100
TZNAME:CET
DTSTART:20251026T010000
END:STANDARD
END:VTIMEZONE
BEGIN:VEVENT
DTSTART;TZID=Europe/Amsterdam:20240818T160000
DTEND;TZID=Europe/Amsterdam:20240818T170000
DTSTAMP:20260420T202525
CREATED:20241011T224242Z
LAST-MODIFIED:20250316T204523Z
UID:1474-1723996800-1724000400@diegohdzmusic.com
SUMMARY:Gato Gabriel - Rensen Theater
DESCRIPTION:Latin Pop show and Latin Jazz
URL:https://diegohdzmusic.com/event/gato-gabriel-rensen-theater/
LOCATION:Rensen Theater Emmen\, Emmen
END:VEVENT
BEGIN:VEVENT
DTSTART;TZID=Europe/Amsterdam:20240826T223000
DTEND;TZID=Europe/Amsterdam:20240826T233000
DTSTAMP:20260420T202525
CREATED:20241011T223301Z
LAST-MODIFIED:20241011T223301Z
UID:1471-1724711400-1724715000@diegohdzmusic.com
SUMMARY:Azumbara - Noorderzon Groningen
DESCRIPTION:Latin\, jazz\, pop
URL:https://diegohdzmusic.com/event/azumbara-noorderzon-groningen/
LOCATION:Noorderzon\, Groningen\, Netherlands
END:VEVENT
BEGIN:VEVENT
DTSTART;TZID=Europe/Paris:20240831T210000
DTEND;TZID=Europe/Paris:20240831T223000
DTSTAMP:20260420T202525
CREATED:20241001T071735Z
LAST-MODIFIED:20241011T233052Z
UID:1332-1725138000-1725143400@diegohdzmusic.com
SUMMARY:Azúmbara - Zomer Jazz Fiets Tour '24
DESCRIPTION:
URL:https://diegohdzmusic.com/event/azumbara-zomer-jazz-fiets-tour-2024/
LOCATION:Zomer Jazz Fiets Tour\, Groningen\, Netherlands
END:VEVENT
END:VCALENDAR